BEGIN:VCALENDAR
VERSION:2.0
PRODID:-//MinSouth - ECPv6.15.20//NONSGML v1.0//EN
CALSCALE:GREGORIAN
METHOD:PUBLISH
X-WR-CALNAME:MinSouth
X-ORIGINAL-URL:https://minsouth.org.uk
X-WR-CALDESC:Events for MinSouth
REFRESH-INTERVAL;VALUE=DURATION:PT1H
X-Robots-Tag:noindex
X-PUBLISHED-TTL:PT1H
BEGIN:VTIMEZONE
TZID:UTC
BEGIN:STANDARD
TZOFFSETFROM:+0000
TZOFFSETTO:+0000
TZNAME:UTC
DTSTART:20170101T000000
END:STANDARD
END:VTIMEZONE
BEGIN:VEVENT
DTSTART;TZID=UTC:20180910T180000
DTEND;TZID=UTC:20180910T210000
DTSTAMP:20260423T025731
CREATED:20180429T152326Z
LAST-MODIFIED:20180903T185005Z
UID:71908-1536602400-1536613200@minsouth.org.uk
SUMMARY:General meeting
DESCRIPTION:Project Generators: Exploration & Investment\nMineral exploration is an inherently capital-intensive and risky business. Despite the large number of junior explorers there is only the very occasional spectacular discovery\, meaning the odds of success are stacked against individual resource investors. This geological risk can then be compounded by the ‘all eggs in one basket’ approach that many typical juniors employ whereby shareholders are offered exposure to only one or two flagship projects that focus on a single commodity within the same jurisdiction. \nProject Generators\, however\, offer an alternative: a large portfolio of projects that is diversified by commodity and country\, helping to insulate the company against political and economic risks\, with joint venture partners being sought to fund the more advanced and expensive phases of exploration. In addition\, a continually-fed pipeline of new projects forces the company to quickly assess and dispassionately relinquish unprospective ground\, allowing it to focus on only those with the greatest potential\, therefore increasing the chance of making an economic discovery.\nThis presentation will introduce the concept of ‘Project Generators’\, providing an overview of the business model and attractiveness for investment\, as well as outlining how they conduct their exploration programmes and what to look out for when considering investing …!
URL:https://minsouth.org.uk/event/general-meeting-3/
CATEGORIES:General meeting
END:VEVENT
BEGIN:VEVENT
DTSTART;TZID=UTC:20180621T083000
DTEND;TZID=UTC:20180621T130000
DTSTAMP:20260423T025731
CREATED:20180509T183155Z
LAST-MODIFIED:20180616T130634Z
UID:72004-1529569800-1529586000@minsouth.org.uk
SUMMARY:Mining Masterclass: Mining Finance
DESCRIPTION:08:15 Registration and breakfast\n \n09:00 Welcome and introduction\n \n09:15 Session 1 –  Experience and perspective of financing options from a Mining CEO Peter Secker (tbc)\, Chief Executive Officer\, Bacanora Minerals \n \n09:50 Session 2 – AIM overview for the Natural Resources sector\nMatthew Crane\, Partner\, BDO LLP\n \n10:20 Coffee break\n \n10:50 Session 3 – Bank debt funding / project finance in the current marketChristophe Roux\, Managing Director and Global Head of Mine Finance\, Société Générale\n \n11:20 Session 4 – Private equity/fund financingPhilip Clegg\, Investment Manager\, Orion Mine Finance \n \n11:55 Session 5 – Panel session and Q&A\n \n12:30 Lunch\n \nLocation: CityPoint\, One Ropemaker Street\, London EC2Y 9SS\nTo register please go to http://www.elexica.com/en/events/210618-mining-masterclass-mining-finance-update
URL:https://minsouth.org.uk/event/mining-masterclass-mining-finance/
LOCATION:CityPoint\, One Ropemaker St\, London\, EC2Y 9SS\, United Kingdom
CATEGORIES:Masterclass
END:VEVENT
BEGIN:VEVENT
DTSTART;TZID=UTC:20180531T173000
DTEND;TZID=UTC:20180531T220000
DTSTAMP:20260423T025731
CREATED:20180429T153804Z
LAST-MODIFIED:20180429T153804Z
UID:71927-1527787800-1527804000@minsouth.org.uk
SUMMARY:Sundowner
DESCRIPTION:
URL:https://minsouth.org.uk/event/sundowner-2/
CATEGORIES:Sundowner
END:VEVENT
END:VCALENDAR