BEGIN:VCALENDAR
VERSION:2.0
PRODID:-//MinSouth - ECPv6.15.20//NONSGML v1.0//EN
CALSCALE:GREGORIAN
METHOD:PUBLISH
X-ORIGINAL-URL:https://minsouth.org.uk
X-WR-CALDESC:Events for MinSouth
REFRESH-INTERVAL;VALUE=DURATION:PT1H
X-Robots-Tag:noindex
X-PUBLISHED-TTL:PT1H
BEGIN:VTIMEZONE
TZID:UTC
BEGIN:STANDARD
TZOFFSETFROM:+0000
TZOFFSETTO:+0000
TZNAME:UTC
DTSTART:20250101T000000
END:STANDARD
END:VTIMEZONE
BEGIN:VEVENT
DTSTART;TZID=UTC:20260416T180000
DTEND;TZID=UTC:20260416T210000
DTSTAMP:20260421T031503
CREATED:20260224T114758Z
LAST-MODIFIED:20260224T114758Z
UID:74240-1776362400-1776373200@minsouth.org.uk
SUMMARY:BTS Evening Lecture: Hinkley Point C Marine Tunnels
DESCRIPTION:“Hinkley Point C Marine Tunnels” \nPresented by:\nBarry Gilsenan (Balfour Beatty)\nDavid Maddison (Jacobs) \nVisit www.britishtunnelling.com for further details
URL:https://minsouth.org.uk/event/bts-evening-lecture-hinkley-point-c-marine-tunnels/
LOCATION:The Institution of Civil Engineers\, 1 Great George Street\, Westminster
END:VEVENT
BEGIN:VEVENT
DTSTART;TZID=UTC:20260430T173000
DTEND;TZID=UTC:20260430T230000
DTSTAMP:20260421T031503
CREATED:20260325T090040Z
LAST-MODIFIED:20260325T090040Z
UID:74396-1777570200-1777590000@minsouth.org.uk
SUMMARY:Sundowner
DESCRIPTION:Sundowner at The Kings Arms \n(Renovations delayed)
URL:https://minsouth.org.uk/event/sundowner-5/
END:VEVENT
BEGIN:VEVENT
DTSTART;TZID=UTC:20260514T180000
DTEND;TZID=UTC:20260514T210000
DTSTAMP:20260421T031503
CREATED:20260213T130008Z
LAST-MODIFIED:20260416T081710Z
UID:74228-1778781600-1778792400@minsouth.org.uk
SUMMARY:Prestige Lecture - Henry Sanderson
DESCRIPTION:The MinSouth Prestige Lecture 2026: \nThe Critical Mineral War: Winners\, Losers and What Comes Next \nwill be presented by author and journalist Henry Sanderson. \nThe energy transition was built on an integrated global supply chain  — DRC cobalt\, Australian lithium\, Chinese processing\, Korean/Japanese cells\, European and American EVs. But President Donald Trump has fractured those supply chains via direct investments in critical minerals and rare earth elements. At the same time China has tightened controls on rare earths and other exports. Africa is a new frontier for competition. Yet Europe is in a bind. Europe depends on Chinese processing it can’t quickly replicate. US tariffs are hitting European industry while Washington demands loyalty on China decoupling. European miners and battery makers face a market being simultaneously pulled apart by both superpowers. \nThere will be snacks and drinks after the lecture. \n  \nFollow Henry on Linkedin and sign up to his newsletter\, Volt Insight. \n  \n  \nLearn more about our speaker here \n  \n\nEvent Registration\nClick the buttons below to view the registration forms. \nVirtual Ticket \nAttendee Ticket
URL:https://minsouth.org.uk/event/prestige-lecture/
LOCATION:IOM3\, IOM3\, Bessemer Room\, 297 Euston Road\,\, London\, 3AD UK\, United Kingdom
END:VEVENT
BEGIN:VEVENT
DTSTART;TZID=UTC:20260521T180000
DTEND;TZID=UTC:20260521T210000
DTSTAMP:20260421T031503
CREATED:20260224T115901Z
LAST-MODIFIED:20260224T115901Z
UID:74243-1779386400-1779397200@minsouth.org.uk
SUMMARY:BTS AGM & Evening Lecture: Lower Thames Crossing
DESCRIPTION:Lecture: Lower Thames Crossing \nSpeaker (Organisation): \nJohn Clarke-Hughes & Keith Bowers (Lower Thames Crossing) \n  \nVisit www.britishtunnelling.com for further details 
URL:https://minsouth.org.uk/event/bts-agm-evening-lecture-lower-thames-crossing/
LOCATION:The Institution of Civil Engineers\, 1 Great George Street\, Westminster
END:VEVENT
BEGIN:VEVENT
DTSTART;VALUE=DATE:20260605
DTEND;VALUE=DATE:20260606
DTSTAMP:20260421T031503
CREATED:20260305T111020Z
LAST-MODIFIED:20260305T111020Z
UID:74273-1780617600-1780703999@minsouth.org.uk
SUMMARY:Engineeing North East Golf Competition
DESCRIPTION:Application Form \n 
URL:https://minsouth.org.uk/event/engineeing-north-east-golf-competition/
END:VEVENT
BEGIN:VEVENT
DTSTART;TZID=UTC:20260611T173000
DTEND;TZID=UTC:20260611T220000
DTSTAMP:20260421T031503
CREATED:20260327T100250Z
LAST-MODIFIED:20260327T100250Z
UID:74402-1781199000-1781215200@minsouth.org.uk
SUMMARY:Croquet Competition
DESCRIPTION:Save the Date: MinSouth Mining Teams Croquet Evening\nGet your flat-soled shoes ready! We’re heading to the Surbiton Croquet Club—the largest in the London area—for a unique evening of team networking\, strategy\, and friendly competition.
URL:https://minsouth.org.uk/event/croquet-competition/
LOCATION:Surbiton Croquet Club\, Alexandra Drive\,\, Surbiton\, KT5 9AA\, United Kingdom
END:VEVENT
BEGIN:VEVENT
DTSTART;TZID=UTC:20260618T180000
DTEND;TZID=UTC:20260618T210000
DTSTAMP:20260421T031503
CREATED:20260224T120407Z
LAST-MODIFIED:20260224T120407Z
UID:74245-1781805600-1781816400@minsouth.org.uk
SUMMARY:BTS Evening Lecture: BTS & Pipejacking Association Joint Meeting - Topic TBC
DESCRIPTION:BTS & Pipejacking Association Joint Meeting – Topic TBC \n  \nVisit www.britishtunnelling.com for further details
URL:https://minsouth.org.uk/event/bts-evening-lecture-bts-pipejacking-association-joint-meeting-topic-tbc/
END:VEVENT
BEGIN:VEVENT
DTSTART;TZID=UTC:20260917T180000
DTEND;TZID=UTC:20260917T210000
DTSTAMP:20260421T031503
CREATED:20260224T121131Z
LAST-MODIFIED:20260224T121131Z
UID:74247-1789668000-1789678800@minsouth.org.uk
SUMMARY:BTS Evening Lecture: National Grid Grain to Tilbury Tunnel and Vertical Shaft Sinking Machine
DESCRIPTION:Lecture: National Grid Grain to Tilbury Tunnel and Vertical Shaft Sinking Machine \nSpeaker (Organisation) \nSpeakers from Ferrovial BEMO JV & National Grid \nVisit www.britishtunnelling.com for further details
URL:https://minsouth.org.uk/event/bts-evening-lecture-national-grid-grain-to-tilbury-tunnel-and-vertical-shaft-sinking-machine/
LOCATION:The Institution of Civil Engineers\, 1 Great George Street\, Westminster
END:VEVENT
BEGIN:VEVENT
DTSTART;VALUE=DATE:20261006
DTEND;VALUE=DATE:20261008
DTSTAMP:20260421T031503
CREATED:20260224T124047Z
LAST-MODIFIED:20260224T124047Z
UID:74257-1791244800-1791417599@minsouth.org.uk
SUMMARY:BTS Conference & Exhibition 2026
DESCRIPTION:BTS Conference & Exhibition 2026 \n  \n  \nVisit www.britishtunnelling.com for further details
URL:https://minsouth.org.uk/event/bts-conference-exhibition-2026/
LOCATION:QE II\, Broad Sanctuary\, Westminster\, London\, SW1P 3EE\, United Kingdom
END:VEVENT
BEGIN:VEVENT
DTSTART;TZID=UTC:20261006T190000
DTEND;TZID=UTC:20261006T210000
DTSTAMP:20260421T031503
CREATED:20260224T122258Z
LAST-MODIFIED:20260224T122258Z
UID:74249-1791313200-1791320400@minsouth.org.uk
SUMMARY:BTS Evening Lecture
DESCRIPTION:Topic to be confirmed \n  \nVisit www.britishtunnelling.com for further details \n 
URL:https://minsouth.org.uk/event/bts-evening-lecture/
LOCATION:QE II\, Broad Sanctuary\, Westminster\, London\, SW1P 3EE\, United Kingdom
END:VEVENT
BEGIN:VEVENT
DTSTART;TZID=UTC:20261119T180000
DTEND;TZID=UTC:20261119T210000
DTSTAMP:20260421T031503
CREATED:20260224T122914Z
LAST-MODIFIED:20260224T122914Z
UID:74253-1795111200-1795122000@minsouth.org.uk
SUMMARY:BTS Evening Lecture: Harding Memorial Lecture
DESCRIPTION:Lecture: Harding Memorial Lecture \nSpeaker (Organisation) \nAndy Alder \n  \nVisit www.britishtunnelling.com for further details
URL:https://minsouth.org.uk/event/bts-evening-lecture-harding-memorial-lecture/
LOCATION:The Institution of Civil Engineers\, 1 Great George Street\, Westminster
END:VEVENT
BEGIN:VEVENT
DTSTART;TZID=UTC:20261210T180000
DTEND;TZID=UTC:20261210T180000
DTSTAMP:20260421T031503
CREATED:20260224T123606Z
LAST-MODIFIED:20260224T123606Z
UID:74255-1796925600-1796925600@minsouth.org.uk
SUMMARY:BTS Evening Lecture
DESCRIPTION:Topic to be confirmed \nVisit www.britishtunnelling.com for further details \n 
URL:https://minsouth.org.uk/event/bts-evening-lecture-2/
LOCATION:The Institution of Civil Engineers\, 1 Great George Street\, Westminster
END:VEVENT
END:VCALENDAR