BEGIN:VCALENDAR
VERSION:2.0
PRODID:-//MinSouth - ECPv6.15.20//NONSGML v1.0//EN
CALSCALE:GREGORIAN
METHOD:PUBLISH
X-WR-CALNAME:MinSouth
X-ORIGINAL-URL:https://minsouth.org.uk
X-WR-CALDESC:Events for MinSouth
REFRESH-INTERVAL;VALUE=DURATION:PT1H
X-Robots-Tag:noindex
X-PUBLISHED-TTL:PT1H
BEGIN:VTIMEZONE
TZID:UTC
BEGIN:STANDARD
TZOFFSETFROM:+0000
TZOFFSETTO:+0000
TZNAME:UTC
DTSTART:20180101T000000
END:STANDARD
END:VTIMEZONE
BEGIN:VEVENT
DTSTART;TZID=UTC:20190909T180000
DTEND;TZID=UTC:20190909T210000
DTSTAMP:20260425T002150
CREATED:20190809T141046Z
LAST-MODIFIED:20190827T094433Z
UID:72223-1568052000-1568062800@minsouth.org.uk
SUMMARY:Tailings Monitoring
DESCRIPTION:Philip Shaw of SureWave Technology Ltd will give a short presentation on new technology for monitoring of tailings dams\, followed by a panel discussion with Hans Otto\, Senior Tailings Engineer with Golder Associates and John Thuysbaert of Knight Piesold. \nBoth Golder and Knight Piesold are Silver sponsors of MinSouth. \nAs this event precedes the IOM3 day conference on tailings to be held on 18th September\, it will not cover all aspects of tailings\, but will focus particularly on monitoring.
URL:https://minsouth.org.uk/event/tailings-monitoring/
END:VEVENT
BEGIN:VEVENT
DTSTART;VALUE=DATE:20190918
DTEND;VALUE=DATE:20190919
DTSTAMP:20260425T002150
CREATED:20190809T150649Z
LAST-MODIFIED:20190809T150649Z
UID:72235-1568764800-1568851199@minsouth.org.uk
SUMMARY:Tailings Management - What is Best Practice
DESCRIPTION:On 4 March 2019\, the Global Minerals Professional Alliance (GMPA) announced it would seek to address global action on tailings with help from various organisations including IOM3. \nThe initiative will focus on examining tailings from the perspective of disposal and closure\, help move forward discussions and solutions for tailings management\, reprocessing and reuse in a bid to move towards the elimination of tailings. \nTailings are the solid material plus varying degrees of runoff and process water (waste) remaining after the recoverable metals and minerals have been extracted from mined ore. The physical and chemical characteristics of the tailings vary with the nature of the ore\, its geological setting and the climate where the tailings are placed.  Tailings are most commonly stored in surface facilities\, which can represent a significant area of disturbance at mining operations.  They have ongoing and severe safety risks associated with their storage. \nMining companies\, professional groups\, industry organizations\, and academics have expressed renewed interest in tailings management following the disaster that took place in late January at Vale’s Corrego do Feijão operation\, where a tailings dam collapsed\, killing more than 300 people. \nIn light of the GMPA announcement\, the three divisions of IOM3 associated with the mineral extraction industries (Mining Technology\, Mineral Processing & Extractive Metallurgy\, and Applied Earth Science Divisions)\, in association with MinSouth\, are hosting a seminar focused on Mine Tailings Management at 297 Euston Road\, London NW1. \nThe aim is to bring together representatives of the various organisations and experts in tailings management to speak on the issues surrounding tailings dam construction\, safety\, maintenance and inspection. \nThe conference will cover a wide scope\, from ‘how tailings dams work’\, current tailings management\, geotechnical considerations\, international policy\, the future of tailings and other uses of mine waste. \nThe presentations will focus on: \n\nAn international standard for tailings dams\, including classification and systems for review\nAlternative strategies for mine tailings\nEmergency planning and preparedness\nWays to use existing resources and data to create and improve research and training initiatives\n\nThis conference is an ideal opportunity for mining company staff\, mine managers\, geotechnical and tailings engineers\, consultants\, regulators and academics to convene and discuss ideas\, learn of new technologies and developments and debate the issues related to mine waste storage.  It is the intention that the collected papers will become an invaluable guide to Best Practice Tailings Management. \nIn addition to the progamme of invited speakers\, offers of papers are welcome – deadline 30 June 2019:
URL:https://minsouth.org.uk/event/tailings-management-what-is-best-practice/
END:VEVENT
END:VCALENDAR