BEGIN:VCALENDAR
VERSION:2.0
PRODID:-//MinSouth - ECPv6.15.20//NONSGML v1.0//EN
CALSCALE:GREGORIAN
METHOD:PUBLISH
X-WR-CALNAME:MinSouth
X-ORIGINAL-URL:https://minsouth.org.uk
X-WR-CALDESC:Events for MinSouth
REFRESH-INTERVAL;VALUE=DURATION:PT1H
X-Robots-Tag:noindex
X-PUBLISHED-TTL:PT1H
BEGIN:VTIMEZONE
TZID:UTC
BEGIN:STANDARD
TZOFFSETFROM:+0000
TZOFFSETTO:+0000
TZNAME:UTC
DTSTART:20180101T000000
END:STANDARD
END:VTIMEZONE
BEGIN:VEVENT
DTSTART;TZID=UTC:20191014T180000
DTEND;TZID=UTC:20191014T210000
DTSTAMP:20260424T230324
CREATED:20190809T141726Z
LAST-MODIFIED:20190809T141726Z
UID:72224-1571076000-1571086800@minsouth.org.uk
SUMMARY:Annual General Meeting
DESCRIPTION:This meeting will be the main constitutional MinSouth meeting to elect the Council for the coming year and give membership the opportunity to meet councillors and make comment on the direction and content of the society. \nAfter the AGM\, Pat Willis of Bara Consulting\, one of MinSouth’s Gold sponsors\, will give a talk on “Feasibility and Review – Lessons Learnt” \nOver the last 10 years or so\, Patrick Willis of Bara Consulting has undertaken numerous studies and reviews.  He will share some of the more important lessons learnt and personal frustrations in undertaking studies.  He will then highlight some common issues arising from reviews\, be they formal due diligence\, expert witness roles or peer reviews. He stresses that this is not a tick box on how to undertake studies or how to comply with stock exchange codes but rather a more light-hearted approach to the subject.
URL:https://minsouth.org.uk/event/annual-general-meeting-2/
END:VEVENT
END:VCALENDAR