BEGIN:VCALENDAR
VERSION:2.0
PRODID:-//MinSouth - ECPv6.15.20//NONSGML v1.0//EN
CALSCALE:GREGORIAN
METHOD:PUBLISH
X-WR-CALNAME:MinSouth
X-ORIGINAL-URL:https://minsouth.org.uk
X-WR-CALDESC:Events for MinSouth
REFRESH-INTERVAL;VALUE=DURATION:PT1H
X-Robots-Tag:noindex
X-PUBLISHED-TTL:PT1H
BEGIN:VTIMEZONE
TZID:UTC
BEGIN:STANDARD
TZOFFSETFROM:+0000
TZOFFSETTO:+0000
TZNAME:UTC
DTSTART:20180101T000000
END:STANDARD
END:VTIMEZONE
BEGIN:VEVENT
DTSTART;TZID=UTC:20191114T180000
DTEND;TZID=UTC:20191114T210000
DTSTAMP:20260424T214153
CREATED:20190809T142806Z
LAST-MODIFIED:20191029T084812Z
UID:72227-1573754400-1573765200@minsouth.org.uk
SUMMARY:Exploration
DESCRIPTION:Short talks and panel discussion on prospective exploration areas\, target minerals/deposits and exploration methods/technology.  Speakers will each give 10 – 15 minute talks followed by questions and discussions: \n\n\n\n\n\nSimon Large of the Natural History Museum: The FAMOS project in general and his work on the giant Los-Bronces porphyry Cu deposit district (Chile). He will show how they integrate current research interests in igneous petrology with application to exploration.\nAntony Benham of SRK Exploration: Geology and prospects of the Arabian-Nubian Shield – what we know so far.\nJames Gilbertson of SRK Exploration: Exploration undercover\, the challenges\, solutions and how this will affect exploration patterns.
URL:https://minsouth.org.uk/event/exploration/
END:VEVENT
BEGIN:VEVENT
DTSTART;TZID=UTC:20191120T133000
DTEND;TZID=UTC:20191121T210000
DTSTAMP:20260424T214153
CREATED:20190301T074441Z
LAST-MODIFIED:20190301T074441Z
UID:72140-1574256600-1574370000@minsouth.org.uk
SUMMARY:ABMEC Annual Conference
DESCRIPTION:With an excellent line-up of speakers and exhibitors\, the Conference brings together captains from the mining industry and its supply chain. Following last year’s success with over 160 delegates from nine countries\, 30 exhibitors and 16 speakers\, this year’s promises to inform\, educate and entertain. \n\n\n\nEVENT\nLOCATION\nSTART DATE\nTIME\nDETAILS\n\n\nInside Mining Seminar with Dr Chris Hinde\nNottingham Belfry Hotel\nWednesday \n20 November 2019\n1.30pm-5.00pm\nOverview of mining industry \n£150/non-member \nRegister Now\n\n\nABMEC Annual Conference\nNottingham Belfry Hotel\nThursday \n21 November 2019\n9.00am – 4.00pm\nSpeakers to date – more to be announced. \n£195 non-member \nRegister Now\n\n\nABMEC Annual Dinner\nNottingham Belfry Hotel\nThursday \n21 November 2019\n6.00pm Drinks \n7.00pm Dinner\n£65 non-members \nRegister Now\n\n\nSponsorship opportunities\nBenefit from your brand in front of the leading decision-makers in the mining industry with ads or promotional items:\nSponsorship offers
URL:https://minsouth.org.uk/event/abmec-annual-conference-2/
END:VEVENT
BEGIN:VEVENT
DTSTART;TZID=UTC:20191128T173000
DTEND;TZID=UTC:20191128T220000
DTSTAMP:20260424T214153
CREATED:20180429T153804Z
LAST-MODIFIED:20180429T153804Z
UID:71946-1574962200-1574978400@minsouth.org.uk
SUMMARY:Sundowner
DESCRIPTION:
URL:https://minsouth.org.uk/event/sundowner-2-2019-11-28/
CATEGORIES:Sundowner
END:VEVENT
END:VCALENDAR