BEGIN:VCALENDAR
VERSION:2.0
PRODID:-//MinSouth - ECPv6.15.20//NONSGML v1.0//EN
CALSCALE:GREGORIAN
METHOD:PUBLISH
X-ORIGINAL-URL:https://minsouth.org.uk
X-WR-CALDESC:Events for MinSouth
REFRESH-INTERVAL;VALUE=DURATION:PT1H
X-Robots-Tag:noindex
X-PUBLISHED-TTL:PT1H
BEGIN:VTIMEZONE
TZID:UTC
BEGIN:STANDARD
TZOFFSETFROM:+0000
TZOFFSETTO:+0000
TZNAME:UTC
DTSTART:20190101T000000
END:STANDARD
END:VTIMEZONE
BEGIN:VEVENT
DTSTART;TZID=UTC:20200424T090000
DTEND;TZID=UTC:20200424T170000
DTSTAMP:20260424T145731
CREATED:20191127T132145Z
LAST-MODIFIED:20191127T132145Z
UID:72317-1587718800-1587747600@minsouth.org.uk
SUMMARY:MIMinE Annual Safety Seminar
DESCRIPTION:MIMinE is holding its 15th Safety Seminar\, with technical papers of relevance to mining and mineral extraction.  This annual event attracts a diverse audience which includes senior personnel\, procurement managers\, trade unionists\, students and apprentices.  The event also features company exhibition stands and ample opportunities for delegates to network during break times. \nPre-registration is essential to secure your place. \nhttp://www.themime.org.uk/
URL:https://minsouth.org.uk/event/mimine-annual-safety-seminar-2/
END:VEVENT
BEGIN:VEVENT
DTSTART;TZID=UTC:20200430T173000
DTEND;TZID=UTC:20200430T220000
DTSTAMP:20260424T145731
CREATED:20180429T153804Z
LAST-MODIFIED:20180429T153804Z
UID:71980-1588267800-1588284000@minsouth.org.uk
SUMMARY:Sundowner
DESCRIPTION:
URL:https://minsouth.org.uk/event/sundowner-2-2020-04-30/
CATEGORIES:Sundowner
END:VEVENT
END:VCALENDAR