BEGIN:VCALENDAR
VERSION:2.0
PRODID:-//MinSouth - ECPv6.15.20//NONSGML v1.0//EN
CALSCALE:GREGORIAN
METHOD:PUBLISH
X-ORIGINAL-URL:https://minsouth.org.uk
X-WR-CALDESC:Events for MinSouth
REFRESH-INTERVAL;VALUE=DURATION:PT1H
X-Robots-Tag:noindex
X-PUBLISHED-TTL:PT1H
BEGIN:VTIMEZONE
TZID:UTC
BEGIN:STANDARD
TZOFFSETFROM:+0000
TZOFFSETTO:+0000
TZNAME:UTC
DTSTART:20190101T000000
END:STANDARD
END:VTIMEZONE
BEGIN:VEVENT
DTSTART;TZID=UTC:20201008T180000
DTEND;TZID=UTC:20201008T200000
DTSTAMP:20260424T041519
CREATED:20200903T084829Z
LAST-MODIFIED:20200930T073018Z
UID:72441-1602180000-1602187200@minsouth.org.uk
SUMMARY:Intelligent Mining Technology
DESCRIPTION:Intelligent  Mining Technology \n“Results of trials of intelligent underwater robots at Ecton Mine for the EU Horizon 2020-funded UNEXMIN project\, commercialization of UNEXMIN with UNEXUP and the robotic mining project\, Robominers”  \n–  Dr. Stephen Henley\, RCI\, 4DCoders \nFollow this link to participate: Join the Teams meeting
URL:https://minsouth.org.uk/event/intelligent-mining-technology/
END:VEVENT
BEGIN:VEVENT
DTSTART;TZID=UTC:20201029T173000
DTEND;TZID=UTC:20201029T220000
DTSTAMP:20260424T041519
CREATED:20180429T153804Z
LAST-MODIFIED:20210610T132659Z
UID:72077-1603992600-1604008800@minsouth.org.uk
SUMMARY:Sundowner
DESCRIPTION:Video conference is done through Wonder.  As their web page states: \n“Wonder is a space where you can connect to others in a more spontaneous and fluid way. You move around freely between groups. It’s fun\, creative and energizing. We call this concept fluid togetherness\, we think it’s the future of how people will connect online in future and we’re incredibly excited about it. The best thing is that Wonder is going to be a the core of it.” \nThere are separate rooms available at this space for Students\, Geologists\, Mining Engineers and Metallurgists.  Anyone can go into whichever room. \nHere is the link: \nSundowners\n 
URL:https://minsouth.org.uk/event/sundowner-2-2020-09-24-2020-10-29/
CATEGORIES:Sundowner
END:VEVENT
END:VCALENDAR