BEGIN:VCALENDAR
VERSION:2.0
PRODID:-//MinSouth - ECPv6.15.20//NONSGML v1.0//EN
CALSCALE:GREGORIAN
METHOD:PUBLISH
X-ORIGINAL-URL:https://minsouth.org.uk
X-WR-CALDESC:Events for MinSouth
REFRESH-INTERVAL;VALUE=DURATION:PT1H
X-Robots-Tag:noindex
X-PUBLISHED-TTL:PT1H
BEGIN:VTIMEZONE
TZID:UTC
BEGIN:STANDARD
TZOFFSETFROM:+0000
TZOFFSETTO:+0000
TZNAME:UTC
DTSTART:20190101T000000
END:STANDARD
END:VTIMEZONE
BEGIN:VEVENT
DTSTART;VALUE=DATE:20201203
DTEND;VALUE=DATE:20201205
DTSTAMP:20260424T010127
CREATED:20201124T160714Z
LAST-MODIFIED:20201125T211336Z
UID:72629-1606953600-1607126399@minsouth.org.uk
SUMMARY:Discussion & Debate: 'Can mining make the world a greener place?'
DESCRIPTION:The Natural History Museum is hosting this discussion and debate.  It will be comprised of 6 sessions entitled – \nWho decides? \nWhere can we find the metals? \nCan mining be safe and sustainable? \nHow to shape future mining? \nProspects for the Circular Economy \nCan mining make the world a greener place? \nThere will be eight speakers asserting their cases on the matter. \nOne can register as an observer on this page.
URL:https://minsouth.org.uk/event/discussion-debate-can-mining-make-the-world-a-greener-place-nhm/
LOCATION:Virtually
CATEGORIES:Debate,Discussion,Natural History Museum
ATTACH;FMTTYPE=image/png:https://minsouth.org.uk/wp-content/uploads/2020/11/NHM-Logo.png
END:VEVENT
BEGIN:VEVENT
DTSTART;TZID=UTC:20201208T190000
DTEND;TZID=UTC:20201208T204500
DTSTAMP:20260424T010127
CREATED:20201130T142710Z
LAST-MODIFIED:20201130T222508Z
UID:72642-1607454000-1607460300@minsouth.org.uk
SUMMARY:The Canadian Mining Education Forum: Perspectives on Mine Health & Safety in Canada
DESCRIPTION:The Canadian Mining Schools Committee of the CIM cordially invites you to this must-attend webinar on mine health and safety. Led by Roy Slack\, immediate past president of the CIM\, this webinar will feature 3 outstanding keynote speakers with more than 90 years of combined experience in the mining industry. Some of the topics in this webinar will include the latest in safety technologies and innovations\, best practices\, effective risk management\, fostering a culture of safety within the organization\, and human perception to safety. Another key question this webinar will address regards industry’s responsibility for safety education and training and the role of academia. Don’t miss the opportunity to participate in this unique forum. Many thanks to our sponsors for their generous contributions\, who have allowed us to make this webinar free-of-charge. \nLink for Details & to Register for Webinar
URL:https://minsouth.org.uk/event/the-canadian-mining-education-forum-perspectives-on-mine-health-safety-in-canada/
LOCATION:Virtually from Canada
CATEGORIES:CanadianInstituteMiningMetallurgyPetroleum,Health&SafetySociety,Lectures
END:VEVENT
BEGIN:VEVENT
DTSTART;TZID=UTC:20201210T180000
DTEND;TZID=UTC:20201210T210000
DTSTAMP:20260424T010127
CREATED:20200903T085236Z
LAST-MODIFIED:20201203T124609Z
UID:72443-1607623200-1607634000@minsouth.org.uk
SUMMARY:Mining Quiz
DESCRIPTION:This quiz will be conducted from the GoToMeeting platform.  Here is a Link to the quiz: Join MinSouth Quiz. \nJulian Aldridge\, our Quizmaster\, will be doing a number of rounds of questions\, with ten questions per round. \nTeams of up to six people (the mail drop says five but six has just been decided) can work together on the questions\, using a separate meeting platform for their group discussions (e.g. Skype\, Whatsapp or Jitsi etc). \nPlease register your team\, provide names of team members and identify a team spokesperson and communicate this information to crtminerals@ntlworld.com\, by Wednesday 9th December. Here is the Link to join the quiz:  Join MinSouth Quiz \, so please do forward this link to your team members if they are not part of MinSouth or do not already receive this email. \nYou can also join in as an individual and we will allocate you to a team.  We will endeavour to develop teams of mixed disciplines\, so please register by emailing crtminerals@ntlworld.com  your name and discipline (Geologist\, Mining Engineer\, Mineral Processer etc) by Tuesday 8th December.  Meeting forums will be constructed on Jitsi where team members can work together. \nWhen going to your separate platforms\, please turn off your microphones at the GoToMeeting MinSouth Quiz site.  It will help ensure that there is no interference while you chat on your separate meeting platforms.  It will also ensure that people from other teams are not spying on your team 😉 \nThere will be a dry run where one can familiarise oneself with using GoToMeeting with whichever meeting platforms different teams are using on Wednesday\, the 9th of December at 18:00 (6 pm).  Just go to the same link – Join MinSouth Quiz \nThe Quiz will be on a trust basis\, so no Googling please.  Julian will present the answers at a mid-point and end of the Quiz and the marking will be carried out – again\, on a trust basis – by the team’s spokesperson who will provide Julian with their final score. \nThere will be no prizes awarded this year\, however we would like to invite participants to make a donation to us for the IOM3 Benevolent Fund – via Paypal – go to www.paypal.co.uk  then log in and click on send money and fill in treasurer@minsouth.org.uk in the recipients e mail box.  This information is also available on the MinSouth webpage at this Link. \n(We suggest £5 per team\, or whatever teams or individuals would like to donate).
URL:https://minsouth.org.uk/event/mining-quiz-2/
CATEGORIES:MinSouth Quiz
END:VEVENT
BEGIN:VEVENT
DTSTART;TZID=UTC:20201231T173000
DTEND;TZID=UTC:20201231T220000
DTSTAMP:20260424T010127
CREATED:20180429T153804Z
LAST-MODIFIED:20210610T132700Z
UID:72096-1609435800-1609452000@minsouth.org.uk
SUMMARY:Sundowner
DESCRIPTION:Video conference is done through Wonder.  As their web page states: \n“Wonder is a space where you can connect to others in a more spontaneous and fluid way. You move around freely between groups. It’s fun\, creative and energizing. We call this concept fluid togetherness\, we think it’s the future of how people will connect online in future and we’re incredibly excited about it. The best thing is that Wonder is going to be a the core of it.” \nThere are separate rooms available at this space for Students\, Geologists\, Mining Engineers and Metallurgists.  Anyone can go into whichever room. \nHere is the link: \nSundowners\n 
URL:https://minsouth.org.uk/event/sundowner-2-2020-09-24-2020-12-31/
CATEGORIES:Sundowner
END:VEVENT
END:VCALENDAR