BEGIN:VCALENDAR
VERSION:2.0
PRODID:-//MinSouth - ECPv6.15.20//NONSGML v1.0//EN
CALSCALE:GREGORIAN
METHOD:PUBLISH
X-WR-CALNAME:MinSouth
X-ORIGINAL-URL:https://minsouth.org.uk
X-WR-CALDESC:Events for MinSouth
REFRESH-INTERVAL;VALUE=DURATION:PT1H
X-Robots-Tag:noindex
X-PUBLISHED-TTL:PT1H
BEGIN:VTIMEZONE
TZID:UTC
BEGIN:STANDARD
TZOFFSETFROM:+0000
TZOFFSETTO:+0000
TZNAME:UTC
DTSTART:20200101T000000
END:STANDARD
END:VTIMEZONE
BEGIN:VEVENT
DTSTART;TZID=UTC:20211013T000000
DTEND;TZID=UTC:20211013T000000
DTSTAMP:20260423T100051
CREATED:20210914T123854Z
LAST-MODIFIED:20210916T122700Z
UID:73163-1634083200-1634083200@minsouth.org.uk
SUMMARY:FINEX21
DESCRIPTION:FINEX21 is the seventh in the series of biennial conferences.  It will be held on Wednesday\, 13th October at The Geological Society\, Burlington House\, Piccadilly\, London W1J 0BG. \nIt will be a one day conference that will bring together individuals from across the full value chain of mining\, and will focus on topics including: \n\nInnovation in Mining\nMining as a Solution of the Zero-carbon economy\n\nTalks will cover developments in capital and commodity markets\, mineral deposit science\nand innovation in exploration\, from the standpoints of experts and professionals from banks\,\nfinance houses\, stockbrokers\, exploration and mining companies and contractors. FINEX is\nnot an investment promotion forum but aims to provide a wider perspective on our industry. \nA flyer for this event is available: FINEX21 Flyer \nTo register for this event\, use this Link to Buy Tickets.
URL:https://minsouth.org.uk/event/finex21/
LOCATION:The Geological Society\, Burlington House\, Piccadilly\, London\, W1J 0BG\, United Kingdom
CATEGORIES:FINEX
END:VEVENT
BEGIN:VEVENT
DTSTART;TZID=UTC:20211014T180000
DTEND;TZID=UTC:20211014T183000
DTSTAMP:20260423T100051
CREATED:20210916T124758Z
LAST-MODIFIED:20210930T073753Z
UID:73187-1634234400-1634236200@minsouth.org.uk
SUMMARY:MinSouth AGM and Gold Exploration in Wales presentation
DESCRIPTION:The MinSouth Annual General Meeting (AGM) will be held on Thursday 14th October at 6pm as a hybrid meeting held physically at The Counting House\, 50 Cornhill\, London EC3V 3PD and virtually – registration details to follow.  The MinSouth 2021 AGM agenda as well as the MinSouth 2020 AGM Minutes (Draft) are available at this Link. \nMike Armitage of SRK will be presenting “Gold Exploration in Wales – Past\, Present and Future” at 18:30 on the 14th of October after the MinSouth Annual General Meeting.  The presentation and questions will probably take about an hour.  After the presentation\, feel free to hang around to chat with others in attendance. \nIt will be held both physically at The Counting House and virtually.  One must register to attend at Eventbrite.  Space at The Counting House ‘Dining Room’ is limited .  You can see if there is space to register by clicking this Physical Attendance Registration LINK \nAlternatively\, you can attend virtually\, register by clicking on the Virtual Attendance Registration LINK \n  \n 
URL:https://minsouth.org.uk/event/minsouth-annual-general-meeting-2021/
CATEGORIES:Annual General Meeting
END:VEVENT
BEGIN:VEVENT
DTSTART;TZID=UTC:20211028T173000
DTEND;TZID=UTC:20211028T220000
DTSTAMP:20260423T100051
CREATED:20180429T153804Z
LAST-MODIFIED:20210610T132709Z
UID:72301-1635442200-1635458400@minsouth.org.uk
SUMMARY:Sundowner
DESCRIPTION:Video conference is done through Wonder.  As their web page states: \n“Wonder is a space where you can connect to others in a more spontaneous and fluid way. You move around freely between groups. It’s fun\, creative and energizing. We call this concept fluid togetherness\, we think it’s the future of how people will connect online in future and we’re incredibly excited about it. The best thing is that Wonder is going to be a the core of it.” \nThere are separate rooms available at this space for Students\, Geologists\, Mining Engineers and Metallurgists.  Anyone can go into whichever room. \nHere is the link: \nSundowners\n 
URL:https://minsouth.org.uk/event/sundowner-2-2020-09-24-2021-10-28/
CATEGORIES:Sundowner
END:VEVENT
END:VCALENDAR