BEGIN:VCALENDAR
VERSION:2.0
PRODID:-//MinSouth - ECPv6.15.20//NONSGML v1.0//EN
CALSCALE:GREGORIAN
METHOD:PUBLISH
X-ORIGINAL-URL:https://minsouth.org.uk
X-WR-CALDESC:Events for MinSouth
REFRESH-INTERVAL;VALUE=DURATION:PT1H
X-Robots-Tag:noindex
X-PUBLISHED-TTL:PT1H
BEGIN:VTIMEZONE
TZID:UTC
BEGIN:STANDARD
TZOFFSETFROM:+0000
TZOFFSETTO:+0000
TZNAME:UTC
DTSTART:20200101T000000
END:STANDARD
END:VTIMEZONE
BEGIN:VEVENT
DTSTART;TZID=UTC:20211214T180000
DTEND;TZID=UTC:20211214T200000
DTSTAMP:20260421T072957
CREATED:20211203T110109Z
LAST-MODIFIED:20211206T104101Z
UID:73296-1639504800-1639512000@minsouth.org.uk
SUMMARY:2021 MinSouth Christmas Quiz
DESCRIPTION:The Quizmaster will be doing a number of rounds of questions. \nTeams of up to six people can work together on the questions\, using a separate meeting platform for their group discussions (e.g. Skype\, Whatsapp or Jitsi etc). \nPlease register your team\, provide names of team members and identify a team spokesperson and communicate this information to the Eventbrite LINK by Friday\, the 10th of December. \nYou can also join in as an individual and we will allocate you to a team.  We will endeavour to develop teams of mixed disciplines\, so please register on the Eventbrite LINK by Friday\, the 10th of December.   \nWhen going to your separate platforms\, please turn off your microphones at the GoToMeeting MinSouth Quiz site.  It will help ensure that there is no interference while you chat on your separate meeting platforms.  It will also ensure that people from other teams are not spying on your team 😉 \nThere will be a dry run where one can familiarise oneself with using GoToMeeting with whichever meeting platforms different teams are using.    This is scheduled to be at 12:30 on the day of the competition (Tuesday\, the 14th of December).  To gain access\, use the link that will be given to you once you registered on Eventbrite. \nOn the day of the competition (Tuesday\, the 14th of December)\, we ask that you check into the platform at 6:00 pm so we can arrange the teams.  The questioning will begin at 6:15 pm. \nThe Quiz will be on a trust basis\, so no Googling please.  The Quizmaster will present the answers at a mid-point and at the end of the Quiz and the marking will be carried out – again\, on a trust basis – by the team’s spokesperson who will provide the Quizmaster with their final score. \nThere will be no prizes awarded this year\, however we would like to invite participants to make a donation to us for the IOM3 Benevolent Fund – via Paypal – go to www.paypal.co.uk  then log in and click on send money and fill in treasurer@minsouth.org.uk in the recipients e mail box.  This information is also available on the MinSouth webpage at this Link. \n(We suggest £5 per team\, or whatever teams or individuals would like to donate).
URL:https://minsouth.org.uk/event/2021-minsouth-christmas-quiz/
LOCATION:Virtual
CATEGORIES:General meeting,MinSouth Quiz
END:VEVENT
BEGIN:VEVENT
DTSTART;TZID=UTC:20211230T173000
DTEND;TZID=UTC:20211230T220000
DTSTAMP:20260421T072957
CREATED:20180429T153804Z
LAST-MODIFIED:20210610T132709Z
UID:72354-1640885400-1640901600@minsouth.org.uk
SUMMARY:Sundowner
DESCRIPTION:Video conference is done through Wonder.  As their web page states: \n“Wonder is a space where you can connect to others in a more spontaneous and fluid way. You move around freely between groups. It’s fun\, creative and energizing. We call this concept fluid togetherness\, we think it’s the future of how people will connect online in future and we’re incredibly excited about it. The best thing is that Wonder is going to be a the core of it.” \nThere are separate rooms available at this space for Students\, Geologists\, Mining Engineers and Metallurgists.  Anyone can go into whichever room. \nHere is the link: \nSundowners\n 
URL:https://minsouth.org.uk/event/sundowner-2-2020-09-24-2021-12-30/
CATEGORIES:Sundowner
END:VEVENT
END:VCALENDAR