BEGIN:VCALENDAR
VERSION:2.0
PRODID:-//MinSouth - ECPv6.15.20//NONSGML v1.0//EN
CALSCALE:GREGORIAN
METHOD:PUBLISH
X-ORIGINAL-URL:https://minsouth.org.uk
X-WR-CALDESC:Events for MinSouth
REFRESH-INTERVAL;VALUE=DURATION:PT1H
X-Robots-Tag:noindex
X-PUBLISHED-TTL:PT1H
BEGIN:VTIMEZONE
TZID:UTC
BEGIN:STANDARD
TZOFFSETFROM:+0000
TZOFFSETTO:+0000
TZNAME:UTC
DTSTART:20210101T000000
END:STANDARD
END:VTIMEZONE
BEGIN:VEVENT
DTSTART;TZID=UTC:20220414T180000
DTEND;TZID=UTC:20220414T200000
DTSTAMP:20260421T012856
CREATED:20220104T202124Z
LAST-MODIFIED:20220413T121823Z
UID:73344-1649959200-1649966400@minsouth.org.uk
SUMMARY:Past\, Present and Future of the Milldam Mine
DESCRIPTION:The MinSouth Technical Meeting on Thursday April 14th will be presented by Peter Robinson\, Chairman\, British Fluorspar Ltd.  He will be discussing the past\, present and future of the Milldam operation which is operated by Fluorsid. \nThis will be a hybrid meeting held both on-line and at the Counting House (Dining Room) along the same lines as our October and November Meetings. \nIt will be possible to register next week via Eventbrite\, the link will be available on the web page when that option is available.  Keep in mind that if you plan to attend physically\, spaces are limited so you will have to book early if you plan to come to the Counting House! \nClick here to register
URL:https://minsouth.org.uk/event/fluorite-mining-derbyshire/
LOCATION:Virtual
CATEGORIES:Lectures,Mining
END:VEVENT
END:VCALENDAR