BEGIN:VCALENDAR
VERSION:2.0
PRODID:-//MinSouth - ECPv6.15.20//NONSGML v1.0//EN
CALSCALE:GREGORIAN
METHOD:PUBLISH
X-ORIGINAL-URL:https://minsouth.org.uk
X-WR-CALDESC:Events for MinSouth
REFRESH-INTERVAL;VALUE=DURATION:PT1H
X-Robots-Tag:noindex
X-PUBLISHED-TTL:PT1H
BEGIN:VTIMEZONE
TZID:UTC
BEGIN:STANDARD
TZOFFSETFROM:+0000
TZOFFSETTO:+0000
TZNAME:UTC
DTSTART:20210101T000000
END:STANDARD
END:VTIMEZONE
BEGIN:VEVENT
DTSTART;TZID=UTC:20220519T180000
DTEND;TZID=UTC:20220519T210000
DTSTAMP:20260420T235050
CREATED:20220104T202546Z
LAST-MODIFIED:20220505T141032Z
UID:73346-1652983200-1652994000@minsouth.org.uk
SUMMARY:Lecture in conjunction with Women In Mining UK
DESCRIPTION:The MinSouth Technical Meeting on Thursday 19th May will be presented by Dr Ana Santos.  Ana graduated with a PhD from Bangor University in 2018 and is currently a Research Fellow in Geomicrobiology at the Natural History Museum.  \nHer talk will be on microbial-based technologies for extraction and recovery of metals from mine wastes.  These waste materials contain concentrations of critical and other metals that make them attractive for reprocessing using bioleaching and bioremediation technologies\, with the important secondary benefit that this can eliminate or greatly reduce the threat that these wastes pose to the surrounding environments.  Strategies have been developed for extracting and recovering metals from both solid and aqueous mine wastes and example of these strategies will be presented as case studies. \nThis will be a hybrid meeting held both on-line and at IOM3 HQ\, 297 Euston Road\, NW1 3AD.\nRegistration for this event is through Eventbrite via this LINK
URL:https://minsouth.org.uk/event/lecture-in-conjunction-with-women-in-mining-uk/
CATEGORIES:Lectures,Mining,Women In Mining UK
END:VEVENT
END:VCALENDAR