BEGIN:VCALENDAR
VERSION:2.0
PRODID:-//MinSouth - ECPv6.15.20//NONSGML v1.0//EN
CALSCALE:GREGORIAN
METHOD:PUBLISH
X-ORIGINAL-URL:https://minsouth.org.uk
X-WR-CALDESC:Events for MinSouth
REFRESH-INTERVAL;VALUE=DURATION:PT1H
X-Robots-Tag:noindex
X-PUBLISHED-TTL:PT1H
BEGIN:VTIMEZONE
TZID:UTC
BEGIN:STANDARD
TZOFFSETFROM:+0000
TZOFFSETTO:+0000
TZNAME:UTC
DTSTART:20210101T000000
END:STANDARD
END:VTIMEZONE
BEGIN:VEVENT
DTSTART;TZID=UTC:20220609T180000
DTEND;TZID=UTC:20220609T200000
DTSTAMP:20260420T222108
CREATED:20220104T202953Z
LAST-MODIFIED:20220523T164539Z
UID:73350-1654797600-1654804800@minsouth.org.uk
SUMMARY:Prestige Lecture:  Lithium potential in Cornwall
DESCRIPTION:This year our Prestige Lecture will be given by Lucy Crane\, an exploration geologist by training\, and now ESG & Sustainability Manager for Cornish Lithium.  Cornish Lithium is an innovative mineral exploration and development company\, focussed on the environmentally responsible extraction of lithium from geothermal waters and hard rock in Cornwall.  In this talk\, Lucy will describe the Company’s approach to utilising new technologies to unlock the potential to extract critical metals such as lithium in a low carbon and responsible manner.\nThis is a Hybrid meeting\, it will be held online and at The Counting House\, Griffin Room\, on the top floor. \nCLICK HERE TO REGISTER
URL:https://minsouth.org.uk/event/prestige-lecture-lithium-potential-in-cornwall/
CATEGORIES:British Mining Industry,Lectures,Mining,Prestige Lecture
END:VEVENT
END:VCALENDAR