BEGIN:VCALENDAR
VERSION:2.0
PRODID:-//MinSouth - ECPv6.15.20//NONSGML v1.0//EN
CALSCALE:GREGORIAN
METHOD:PUBLISH
X-ORIGINAL-URL:https://minsouth.org.uk
X-WR-CALDESC:Events for MinSouth
REFRESH-INTERVAL;VALUE=DURATION:PT1H
X-Robots-Tag:noindex
X-PUBLISHED-TTL:PT1H
BEGIN:VTIMEZONE
TZID:UTC
BEGIN:STANDARD
TZOFFSETFROM:+0000
TZOFFSETTO:+0000
TZNAME:UTC
DTSTART:20210101T000000
END:STANDARD
END:VTIMEZONE
BEGIN:VEVENT
DTSTART;VALUE=DATE:20220707
DTEND;VALUE=DATE:20220709
DTSTAMP:20260420T163247
CREATED:20220129T125408Z
LAST-MODIFIED:20220130T152200Z
UID:73402-1657152000-1657324799@minsouth.org.uk
SUMMARY:Geometallurgy 2022
DESCRIPTION:Geometallurgy 2022\nSustainable resource development\nGeometallurgy has won the hearts and minds of practitioners\, as evidenced by the rise in geometallurgical positions in mining companies and consultancies. \nThe Institute of Materials\, Minerals and Mining (IoM3) is holding a Geometallurgy Conference.  This is the third in the series which started in 2014.  This provides a platform to consolidate the latest advances in the geometallurgy discipline. \nThe deadline for abstract submission is Monday the 28th of February 2022.  More information about the call for papers is at IoM3 | Geometallurgy 2022
URL:https://minsouth.org.uk/event/geometallurgy-2022/
CATEGORIES:IoM3
END:VEVENT
END:VCALENDAR